BEGIN:VCALENDAR
VERSION:2.0
METHOD:PUBLISH
BEGIN:VEVENT
DTSTART:20210627T160000Z
DTEND:20210627T170000Z
LOCATION:
TRANSP:OPAQUE
SEQUENCE:0
UID:180@mzol.ch
DTSTAMP:20260420T103921Z
SUMMARY:RELOADED Neujahrskonzert Wetzikon
DESCRIPTION:Ref. Kirche Wetzikon Aufgrund der Lockerungen sind noch Tickets im Vorverkauf und an der Abendkasse verfuegbar.  Vorverkauf &gt; Ticketino oder 044 970 30 29  Solist: Christoph Pfaendler, Hackbrett Orchester Collegium Cantorum Leitung: Thomas Ineichen   

PRIORITY:1
CLASS:PUBLIC
End:VALARM
END:VEVENT
END:VCALENDAR
