BEGIN:VCALENDAR
VERSION:2.0
METHOD:PUBLISH
BEGIN:VEVENT
DTSTART:20181209T160000Z
DTEND:20181209T170000Z
LOCATION:
TRANSP:OPAQUE
SEQUENCE:0
UID:169@mzol.ch
DTSTAMP:20260422T102922Z
SUMMARY:Weihnachtsoratorium
DESCRIPTION:Serata Thalwil  Zuerichsee-Chor Orchester Collegium Cantorum Leitung: Sabine Horstmann  J.S. Bach: Weihnachtsoratorium, Teil 1 - 3

PRIORITY:1
CLASS:PUBLIC
End:VALARM
END:VEVENT
END:VCALENDAR
