BEGIN:VCALENDAR
VERSION:2.0
METHOD:PUBLISH
BEGIN:VEVENT
DTSTART:20190106T100000Z
DTEND:20190106T110000Z
LOCATION:
TRANSP:OPAQUE
SEQUENCE:0
UID:167@mzol.ch
DTSTAMP:20260420T104332Z
SUMMARY:Neujahrskonzert Winterthur
DESCRIPTION:Kongresshaus Liebestrasse Winterthur  Orchester Collegium Cantorum Solist: Anders Miolin, Gitarre Leitung: Thomas Ineichen  Joseph Haydn (1732 - 1809): Sinfonie Nr. 19 in D-Dur, Hob I:19 fuer Orchester Antonio Vivaldi (1678 - 1741): Concerto in G-Dur, RV 413, Cellokonzert arrangiert fuer Gitarre und Streicher Benjamin Britten (1913 - 1976): Simple Symphony fuer Streicher  Wolfgang Amadeus Mozart (1756 - 1791): Konzert in D-Dur, KV 211, Violinkonzert arrangiert fuer Gitarre und Orchester

PRIORITY:1
CLASS:PUBLIC
End:VALARM
END:VEVENT
END:VCALENDAR
