BEGIN:VCALENDAR
VERSION:2.0
METHOD:PUBLISH
BEGIN:VEVENT
DTSTART:20171104T160000Z
DTEND:20171104T170000Z
LOCATION:
TRANSP:OPAQUE
SEQUENCE:0
UID:150@mzol.ch
DTSTAMP:20260420T104344Z
SUMMARY:Klavier, Klarinette und Orchester
DESCRIPTION:Saal Musikschulzentrum MZO, Bahnhofstrasse 36, Wetzikon  Rebecca Ineichen, Klavier Seraina Ineichen, Klarinette Orchester Collegium Cantorum Leitung: Thomas Ineichen  B&eacute;la Bart&oacute;k (1881 - 1945): Rumaenische Volkstaenze fuer Orchester Hans Schaeuble (1906 - 1988): Klarinettenkonzert Op. 46 Heitor Villa-Lobos (1887 - 1959) : Aria aus Bacchianas Brasileiras Nr. 5 Wolfgang Amadeus Mozart (1756 - 1791): Klavierkonzert Nr. 12, A-Dur, KV 414

PRIORITY:1
CLASS:PUBLIC
End:VALARM
END:VEVENT
END:VCALENDAR
