BEGIN:VCALENDAR
VERSION:2.0
METHOD:PUBLISH
BEGIN:VEVENT
DTSTART:20170108T100000Z
DTEND:20170108T110000Z
LOCATION:
TRANSP:OPAQUE
SEQUENCE:0
UID:139@mzol.ch
DTSTAMP:20260422T102756Z
SUMMARY:Neujahrskonzert Winterthur
DESCRIPTION:Festsaal Kongresshaus Liebestrasse, Winterthur  Orchester Collegium Cantorum Solist: Rafael Rosenfeld, Violoncello Leitung: Thomas Ineichen  Joseph Haydn: Sinfonie Nr. 1 in D-dur (Hob I:1) fuer Orchester Anton&iacute;n Dvor&aacute;k: Rondo g-moll op. 94 fuer Cello und Orchester Leo&scaron; Jan&aacute;cek:  Suite fuer Streichorchester Joseph Haydn: Cellokonzert Nr. 2 in D-dur fuer Cello und Orchester

PRIORITY:1
CLASS:PUBLIC
End:VALARM
END:VEVENT
END:VCALENDAR
