BEGIN:VCALENDAR
VERSION:2.0
METHOD:PUBLISH
BEGIN:VEVENT
DTSTART:20160110T100000Z
DTEND:20160110T110000Z
LOCATION:
TRANSP:OPAQUE
SEQUENCE:0
UID:132@mzol.ch
DTSTAMP:20260422T102246Z
SUMMARY:Neujahrskonzert Winterthur
DESCRIPTION: 	Festsaal Kongresshaus Liebestrasse, Winterthur  	Orchester Collegium Cantorum 	Solisten: Rahel Cunz, Violine und Hannes Baertschi, Viola 	Leitung: Thomas Ineichen  	Wolfgang Amadeus Mozart: Sinfonie Nr. 5, B-Dur, KV 22 fuer Orchester 	Frank Bridge: Suite fuer Streichorchester 	Wolfgang Amadeus Mozart: Sinfonia concertante, Es-Dur, KV 364 fuer Violine, Viola und Orchester

PRIORITY:1
CLASS:PUBLIC
End:VALARM
END:VEVENT
END:VCALENDAR
