BEGIN:VCALENDAR
VERSION:2.0
METHOD:PUBLISH
BEGIN:VEVENT
DTSTART:20160206T160000Z
DTEND:20160206T170000Z
LOCATION:
TRANSP:OPAQUE
SEQUENCE:0
UID:125@mzol.ch
DTSTAMP:20260420T104331Z
SUMMARY:Kantorei ZO: Mendelssohn und Schumann
DESCRIPTION: 	Ref. Kirche Pfaeffikon ZH  	Kantorei Zuercher Oberland 	 	Dorothea Frey, Sopran 	 	Orchester Collegium Cantorum 	Leitung: Luzius Appenzeller

PRIORITY:1
CLASS:PUBLIC
End:VALARM
END:VEVENT
END:VCALENDAR
