BEGIN:VCALENDAR
VERSION:2.0
METHOD:PUBLISH
BEGIN:VEVENT
DTSTART:20150103T183000Z
DTEND:20150103T193000Z
LOCATION:
TRANSP:OPAQUE
SEQUENCE:0
UID:106@mzol.ch
DTSTAMP:20260420T104944Z
SUMMARY:Neujahrkonzert
DESCRIPTION: 	Ref. Kirche Pfaeffikon  	Orchester Collegium Cantorum 	Solistin: Alena Cherny, Klavier 	Leitung: Thomas Ineichen  	Ludwig van Beethoven: Klavierkonzert Nr. 2 	Franz Schubert: Adagio e Rondo concertante fuer Klavier und Streicher 	Edward Elgar: Serenade e-moll op. 20 fuer Streicher 	Luigi Boccherini: Sinfonie op. 35 Nr. 3

PRIORITY:1
CLASS:PUBLIC
End:VALARM
END:VEVENT
END:VCALENDAR
