BEGIN:VCALENDAR
VERSION:2.0
METHOD:PUBLISH
BEGIN:VEVENT
DTSTART:20141130T150000Z
DTEND:20141130T160000Z
LOCATION:
TRANSP:OPAQUE
SEQUENCE:0
UID:101@mzol.ch
DTSTAMP:20260420T103740Z
SUMMARY:Herzogenberg
DESCRIPTION: 	Stadtkirche Baden 	 	Schola Cantorum Wettingensis 	Orchester Collegium Cantorum 	Leitung: Roland Fitzlaff  	Heinrich von Herzogenberg: Die Geburt Christi

PRIORITY:1
CLASS:PUBLIC
End:VALARM
END:VEVENT
END:VCALENDAR
